BEGIN:VCALENDAR
VERSION:2.0
BEGIN:VEVENT
URL:https://low302.oztix.com.au/outlet/event/dada3c13-b6e4-4126-8c45-625371eaeb0f
DTSTART:20260610T090000Z
DTEND:20260610T090000Z
SUMMARY:Happily Ever After? (A Cabaret)
DESCRIPTION:Event details: https://low302.oztix.com.au/outlet/event/dada3c13-b6e4-4126-8c45-625371eaeb0f
LOCATION:Low 302 (Surry Hills, NSW)
END:VEVENT
END:VCALENDAR